BEGIN:VCALENDAR
VERSION:2.0
PRODID:-//Tukios.com/
BEGIN:VEVENT
UID:501ab706-fdf8-4851-a0aa-4f48213d6a00@www.ermertfuneralhome.com
DTSTAMP:20260423T225949Z
DTSTART:20260425T183000Z
DTEND:20260425T190000Z
SUMMARY:Visitation
DESCRIPTION:
URL:https://www.ermertfuneralhome.com/obituaries/danny-reed-sr
LOCATION:Ermert Funeral Home 1000 West Elm Street  Corning AR 72422
GEO:36.4106064;-90.5860924
END:VEVENT
END:VCALENDAR