BEGIN:VCALENDAR
VERSION:2.0
PRODID:-//Tukios.com/
BEGIN:VEVENT
UID:5137e95d-0f76-45a4-bfbd-152982df5b29@www.ermertfuneralhome.com
DTSTAMP:20260423T230527Z
DTSTART:20260425T190000Z
DTEND:20260425T200000Z
SUMMARY:Memorial Service
DESCRIPTION:
URL:https://www.ermertfuneralhome.com/obituaries/danny-reed-sr
LOCATION:Ermert Funeral Home 1000 West Elm Street  Corning AR 72422
GEO:36.4106064;-90.5860924
END:VEVENT
END:VCALENDAR